Workbook
Name PDF納品: '注文フォーム (記入例)'!$BJ$42
Name PDF納品: 注文フォーム!$BJ$47
Name 紙を郵送: 注文フォーム!$CI$47:$CI$50

Sheet ご注文の流れ
B2: アスベスト分析 ご注文の流れ
B3: STEP 1 | C3: 注文フォーム | D3: （隣のシート）に情報入力
B4: STEP 2 | C4: 送付書 | D4: （隣の隣のシート）を印刷
B5: STEP 3 | C5: 注文書エクセルを | D5: info@alfred-lab.co.jp | E5: にメール送信
B6: STEP 4 | C6: 印刷いただいた送付書と試料を梱包し発送（元払い）

Sheet 注文フォーム
B1: アスベスト分析注文フォーム | U1: 定性分析（JIS A 1481-1） | BB1: 報告書選択ver1.0 | BO1: =IF(K25="福岡ラボ","福岡ラボ","本社") -> 本社
B3: 【お問い合わせ先】 ※初めてご注文されるお客様にはお電話にて入力サポートさせて頂きますのでお気軽にご連絡ください。
P4: アルフレッド株式会社
P5: E-mail | U5: info@alfred-lab.co.jp
P6: TEL | U6: 053-525-8422
B8: 【本ファイル送信先】 | C8: STEP 1 | H8: 本シート（注文フォーム）に情報入力 | AG8: 緑色のセルにご記入ください
C9: STEP 2 | H9: 送付書（隣のシート）を印刷
C10: STEP 3 | H10: ご記入後、このエクセルファイルをそのまま | AD10: info@alfred-lab.co.jp | AQ10: にお送りください。
C11: STEP 4 | H11: 印刷いただいた送付書と試料を梱包し発送（元払い）
B13: 【契約内容のご確認】
B14: ・「注文フォーム」とサンプルが届いた時点で注文を確定させて頂きます。分析保留のご指示がない際の確定後のキャンセルは費用が発生しますのでご注意ください。
B15: ・試料を宅配便で送付する場合、アルフレッド株式会社に必ず最短配送指定（可能であればAM着）をお願い致します。納期はAM着は当日起算、PM着は翌日起算の受け入れとさせていただきます。
B16: ・ご提供する成績書は原則としてPDFにて納品させていただき、ご要望に応じて郵送対応をさせていただきます。
B17: ・分析残試料及びその容器のご返却をご希望の場合は必ず「分析後試料」項でご選択ください。「着払い」にてお客様住所にご返却させて頂きます。(原則:ヤマト運輸を使用)
B18: ・分析残試料及びその容器は指示がない場合はアルフレッド株式会社の規定により廃棄させて頂きます。廃棄までの期間は試料受付より概ね一か月程度です。
B19: ・弊社にて実施しているのは定性分析のため、測定不確かさは考慮しません。
B20: 【機密情報の取扱について】
B21: ・注文書の情報は、お客様への連絡などの目的以外に使用しません。
B22: ・お客様より収集させて頂いた情報をアルフレッド株式会社以外の第三者には、提供・開示いたしません。
B24: 【試料送付先】※中国・四国・九州地方のお客様は福岡ラボをご選択ください
C25: 分析実施場所*必須 | K25: 浜松ラボ | AF25: =IF(K25="福岡ラボ","検体を福岡ラボまでご送付ください。","検体を浜松ラボまでご送付ください。") -> 検体を浜松ラボまでご送付ください。
B29: 【お客様情報】 ※分析結果報告書をお送りする宛先です。
C30: 会社名*必須
C31: 郵便番号*必須
C32: 会社住所*必須
C33: 部署名*必須
C34: 御担当者様*必須
C35: 電話番号*必須
C36: 携帯電話番号*必須
C37: 速報/連絡E-mail*必須
C38: 他E-mail（任意）
B40: 【分析依頼情報】
C41: 分析納期情報
C42: 納期プラン*必須 | J42: 通常納期 | AF42: =IF(J42="特急納期","特急が指定されています","")
C45: 成績書情報
C46: 報告書様式*必須 | J46: 試験成績書 | AF46: =IF(J46="試験成績書","シンプルな仕様の報告書です。グレー部分の項目の入力は不要です。","厚労省仕様の報告書です。シンプル報告書よりもご記入が必要な欄が多くなります。") -> シンプルな仕様の報告書です。グレー部分の項目の入力は不要です。 | CI46: 紙を郵送
C47: 成績書宛名*必須 | AD47: 様 | BJ47: 0 | CI47: 1
C48: 成績書の納品*必須 | J48: PDF納品 | AF48: =IF(J48="紙を郵送","普通郵便による郵送のため、最大5日かかります","") | AZ48: ※弊社発行の報告書はメールでお送りするPDF（電子データ）が原本となります。 | CI48: 2
C49: 成績書部数 | AF49: =IF(J48="PDF納品","PDF納品の場合は部数選択は不要です","") -> PDF納品の場合は部数選択は不要です | BA49: 必要に応じて印刷していただきご利用くださいませ。 | CI49: 3
BA50: 弊社にてPDFを印刷の上で郵送をご希望の場合は「紙で郵送」をご選択ください。 | CI50: 4
C51: 試料返却の有無
C52: 分析後試料*必須 | J52: 廃棄 | AF52: =IF(J52="要返却","貴社に着払いにて返送いたします","")
B54: 【業務情報】
C55: 件名*必須 | AL55: ※件名が不要の場合は-を入力ください
B57: 【試料情報】下記に試料毎の情報をご記入ください。※同封の試料にも下記と同じ試料番号と試料名をご記入ください。
B58: ★重要★ 分析依頼書と試料袋の記載情報が異なる場合、原則分析依頼書の情報を正として取り扱いさせて頂きます。 例：分析依頼書「機械室 石膏ボード」、試料袋記載「機械 石こうボード」の場合は、 成績書には「機械室 石膏ボード」と記載させて頂きます。 試料袋記載が「ボイラー室 石こうボード」のように、明らかに記載内容が異なる場合はお問合せさせて頂くことがございます。
C64: 試料別情報 | AU64: ※厚労省書式をご選択の場合はご記入ください | BL64: 別途料金 | DB64: 断面写真
B65: 試料 番号 | D65: 試料名称 *必須 | P65: 採取日 | V65: 採取場所（エリア・部屋名など） | AK65: 試料採取者 所属・氏名・資格 | AU65: 採取箇所選定者 所属・氏名・資格 | BE65: 試料の大きさ | BL65: 断面写真 | DB65: =DB64&":"&COUNTIF($DB$67:$DB$116,"定性+断面写真") -> 断面写真:0
BL66: オプション | BR66: ※厚労省書式をご選択の場合はご記入ください | CZ66: {=_xlfn.IFS(J46="分析結果報告書（厚労省書式）","分析結果報告書（厚労省書式）",COUNTIF(BL67:BO116,"〇")<>0,"報告書_断面写真",J46="試験成績書","試験成績書")} -> 試験成績書
B67: 1 | BR67: 施設名称 | DB67: =IF(BL67="〇","定性+断面写真","定性分析") -> 定性分析
B68: 2 | BR68: 採取場所住所 | DB68: =IF(BL68="〇","定性+断面写真","定性分析") -> 定性分析
B69: 3 | BR69: 建物の用途 | DB69: =IF(BL69="〇","定性+断面写真","定性分析") -> 定性分析
B70: 4 | BR70: 竣工年・施工を採用した年 | DB70: =IF(BL70="〇","定性+断面写真","定性分析") -> 定性分析
B71: 5 | DB71: =IF(BL71="〇","定性+断面写真","定性分析") -> 定性分析
B72: 6 | BR72: 連絡事項 *任意 | DB72: =IF(BL72="〇","定性+断面写真","定性分析") -> 定性分析
B73: 7 | DB73: =IF(BL73="〇","定性+断面写真","定性分析") -> 定性分析
B74: 8 | DB74: =IF(BL74="〇","定性+断面写真","定性分析") -> 定性分析
B75: 9 | DB75: =IF(BL75="〇","定性+断面写真","定性分析") -> 定性分析
B76: 10 | DB76: =IF(BL76="〇","定性+断面写真","定性分析") -> 定性分析
B77: 11 | DB77: =IF(BL77="〇","定性+断面写真","定性分析") -> 定性分析
B78: 12 | DB78: =IF(BL78="〇","定性+断面写真","定性分析") -> 定性分析
B79: 13 | DB79: =IF(BL79="〇","定性+断面写真","定性分析") -> 定性分析
B80: 14 | DB80: =IF(BL80="〇","定性+断面写真","定性分析") -> 定性分析
B81: 15 | DB81: =IF(BL81="〇","定性+断面写真","定性分析") -> 定性分析
B82: 16 | DB82: =IF(BL82="〇","定性+断面写真","定性分析") -> 定性分析
B83: 17 | DB83: =IF(BL83="〇","定性+断面写真","定性分析") -> 定性分析
B84: 18 | DB84: =IF(BL84="〇","定性+断面写真","定性分析") -> 定性分析
... B116: 50 | DB116: =IF(BL116="〇","定性+断面写真","定性分析") -> 定性分析

Sheet 送付書
B1: アスベスト分析送付書
P3: =IF(注文フォーム!K25="浜松ラボ",Sheet1!A1&CHAR(10)&Sheet1!A2&CHAR(10)&Sheet1!A3&CHAR(10)&Sheet1!A4,Sheet1!A6&CHAR(10)&Sheet1!A7&CHAR(10)&Sheet1!A8&CHAR(10)&Sheet1!A9) -> 〒 432-8003 静岡県浜松市中央区和地山3-1-7 浜松イノベーションキューブ 307号室 アルフレッド株式会社 受付担当行 TEL 053-525-8422
B4: 本送付書を印刷し試料に同封してください。
B9: お客様情報 | D9: 〔会社名〕 | S9: 〔部署名〕
D10: =注文フォーム!K30 -> 0 | S10: =注文フォーム!K33 -> 0
D12: =注文フォーム!K34 -> 0
D13: =注文フォーム!K34 -> 0 | Q13: TEL | S13: =注文フォーム!K35 -> 0
Q14: Mob | S14: =注文フォーム!K36 -> 0
B16: ご依頼情報 | D16: 〔件名〕
D17: =注文フォーム!J55 -> 0
D19: 〔納期〕 | K19: 〔分析内容〕 | R19: 〔試料返却〕
D20: =注文フォーム!J42 -> 通常納期 | K20: =注文フォーム!DB67 -> 定性分析 | R20: =注文フォーム!J52 -> 廃棄
D23: 〔連絡事項〕
D24: =IF(送付書!BR73="","",注文フォーム!BR73)
B27: 試料別情報
B28: 試料番号 | D28: 試料名称 | L28: 採取日 | P28: 採取場所 | V28: 試料採取者 氏名
B30: 1 | D30: =注文フォーム!D67 -> 0 | L30: =注文フォーム!P67 -> 0 | P30: =注文フォーム!V67 -> 0 | V30: =注文フォーム!AK67 -> 0
B31: 2 | D31: =注文フォーム!D68 -> 0 | L31: =注文フォーム!P68 -> 0 | P31: =注文フォーム!V68 -> 0 | V31: =注文フォーム!AK68 -> 0
B32: 3 | D32: =注文フォーム!D69 -> 0 | L32: =注文フォーム!P69 -> 0 | P32: =注文フォーム!V69 -> 0 | V32: =注文フォーム!AK69 -> 0
B33: 4 | D33: =注文フォーム!D70 -> 0 | L33: =注文フォーム!P70 -> 0 | P33: =注文フォーム!V70 -> 0 | V33: =注文フォーム!AK70 -> 0
B34: 5 | D34: =注文フォーム!D71 -> 0 | L34: =注文フォーム!P71 -> 0 | P34: =注文フォーム!V71 -> 0 | V34: =注文フォーム!AK71 -> 0
B35: 6 | D35: =注文フォーム!D72 -> 0 | L35: =注文フォーム!P72 -> 0 | P35: =注文フォーム!V72 -> 0 | V35: =注文フォーム!AK72 -> 0
B36: 7 | D36: =注文フォーム!D73 -> 0 | L36: =注文フォーム!P73 -> 0 | P36: =注文フォーム!V73 -> 0 | V36: =注文フォーム!AK73 -> 0
B37: 8 | D37: =注文フォーム!D74 -> 0 | L37: =注文フォーム!P74 -> 0 | P37: =注文フォーム!V74 -> 0 | V37: =注文フォーム!AK74 -> 0
B38: 9 | D38: =注文フォーム!D75 -> 0 | L38: =注文フォーム!P75 -> 0 | P38: =注文フォーム!V75 -> 0 | V38: =注文フォーム!AK75 -> 0
B39: 10 | D39: =注文フォーム!D76 -> 0 | L39: =注文フォーム!P76 -> 0 | P39: =注文フォーム!V76 -> 0 | V39: =注文フォーム!AK76 -> 0
B40: 11 | D40: =注文フォーム!D77 -> 0 | L40: =注文フォーム!P77 -> 0 | P40: =注文フォーム!V77 -> 0 | V40: =注文フォーム!AK77 -> 0
B41: 12 | D41: =注文フォーム!D78 -> 0 | L41: =注文フォーム!P78 -> 0 | P41: =注文フォーム!V78 -> 0 | V41: =注文フォーム!AK78 -> 0
... B49: 20 | D49: =注文フォーム!D86 -> 0 | L49: =注文フォーム!P86 -> 0 | P49: =注文フォーム!V86 -> 0 | V49: =注文フォーム!AK86 -> 0
B50: ※ 20検以下の場合は1ページ目のみ印刷、21検体以上の場合は両面印刷でお願いいたします。
B52: 試料番号 | D52: 試料名称 | L52: 採取日 | P52: 採取場所 | V52: 試料採取者 氏名
B54: 21 | D54: =注文フォーム!D87 -> 0 | L54: =注文フォーム!P87 -> 0 | P54: =注文フォーム!V87 -> 0 | V54: =注文フォーム!AK87 -> 0
B55: 22 | D55: =注文フォーム!D88 -> 0 | L55: =注文フォーム!P88 -> 0 | P55: =注文フォーム!V88 -> 0 | V55: =注文フォーム!AK88 -> 0
B56: 23 | D56: =注文フォーム!D89 -> 0 | L56: =注文フォーム!P89 -> 0 | P56: =注文フォーム!V89 -> 0 | V56: =注文フォーム!AK89 -> 0
B57: 24 | D57: =注文フォーム!D90 -> 0 | L57: =注文フォーム!P90 -> 0 | P57: =注文フォーム!V90 -> 0 | V57: =注文フォーム!AK90 -> 0
B58: 25 | D58: =注文フォーム!D91 -> 0 | L58: =注文フォーム!P91 -> 0 | P58: =注文フォーム!V91 -> 0 | V58: =注文フォーム!AK91 -> 0
B59: 26 | D59: =注文フォーム!D92 -> 0 | L59: =注文フォーム!P92 -> 0 | P59: =注文フォーム!V92 -> 0 | V59: =注文フォーム!AK92 -> 0
B60: 27 | D60: =注文フォーム!D93 -> 0 | L60: =注文フォーム!P93 -> 0 | P60: =注文フォーム!V93 -> 0 | V60: =注文フォーム!AK93 -> 0
B61: 28 | D61: =注文フォーム!D94 -> 0 | L61: =注文フォーム!P94 -> 0 | P61: =注文フォーム!V94 -> 0 | V61: =注文フォーム!AK94 -> 0
B62: 29 | D62: =注文フォーム!D95 -> 0 | L62: =注文フォーム!P95 -> 0 | P62: =注文フォーム!V95 -> 0 | V62: =注文フォーム!AK95 -> 0
B63: 30 | D63: =注文フォーム!D96 -> 0 | L63: =注文フォーム!P96 -> 0 | P63: =注文フォーム!V96 -> 0 | V63: =注文フォーム!AK96 -> 0
B64: 31 | D64: =注文フォーム!D97 -> 0 | L64: =注文フォーム!P97 -> 0 | P64: =注文フォーム!V97 -> 0 | V64: =注文フォーム!AK97 -> 0
B65: 32 | D65: =注文フォーム!D98 -> 0 | L65: =注文フォーム!P98 -> 0 | P65: =注文フォーム!V98 -> 0 | V65: =注文フォーム!AK98 -> 0
... B83: 50 | D83: =注文フォーム!D116 -> 0 | L83: =注文フォーム!P116 -> 0 | P83: =注文フォーム!V116 -> 0 | V83: =注文フォーム!AK116 -> 0

Sheet 必要量・梱包方法
B2: 分析に必要な試料の量の目安
B3: ・外壁、仕上塗材 | C3: ゴルフボール 1 個分 程度 （10g程度が目安）
B4: ・吹付材、保温材 | C4: ゴルフボール 2 個分 程度
B5: ・成形板 | C5: 5cm 各 １個分 程度 (厚みが0.5cm以下の場合は２倍）
B6: （スレート版、石膏ボード、天井材など）
B7: 上記の量を確保頂ければ、アスベストの定性分析を実施することが可能です。
B8: ※必要量を満たなくても分析可能な場合もございますのでご心配な場合はご連絡ください。
B10: 試料の梱包方法
B11: 試料が飛散・汚染しないよう、チャック付きポリ袋に2重にしてください。
B12: 1検体ごとに袋を2重に入れる | E12: 1検体ずつ小袋に入れ、１つの大袋に複数の小袋を入れる
B21: 「送付書」ページを印刷いただき、試料とあわせてご送付ください。
B22: 送料は元払いでお願いいたします。 | M22: 送付先
M23: =IF(注文フォーム!K25="浜松ラボ",Sheet1!A12&CHAR(10)&Sheet1!A13&CHAR(10)&Sheet1!A14&CHAR(10)&Sheet1!A15&CHAR(10)&Sheet1!A16,Sheet1!A19&CHAR(10)&Sheet1!A20&CHAR(10)&Sheet1!A21&CHAR(10)&Sheet1!A22&CHAR(10)&Sheet1!A23) -> 〒 432-8003 静岡県浜松市中央区和地山3-1-7 浜松イノベーションキューブ 307号室 アルフレッド株式会社 受付担当 行 TEL：053-525-8422
B33: 試料の飛散・汚染防止のため、試料が漏れ出さないように袋を密閉してください。
B34: お急ぎの場合はヤマト運輸の宅急便（最短配送指定）をお勧めしております。

Sheet 注文フォーム (記入例)
B1: アスベスト分析注文フォーム | U1: 定性分析（JIS A 1481-1） | BB1: 厚労省書式選択ver1.0 | BO1: =IF(K25="福岡ラボ","福岡ラボ","本社") -> 福岡ラボ
B3: 【お問い合わせ先】 ※初めてご注文されるお客様にはお電話にて入力サポートさせて頂きますのでお気軽にご連絡ください。
P4: アルフレッド株式会社
P5: E-mail | U5: info@alfred-lab.co.jp
P6: TEL | U6: 053-525-8422
B8: 【本ファイル送信先】 | C8: STEP 1 | H8: 本シート（注文フォーム）に情報入力 | AG8: 緑色のセルにご記入ください
C9: STEP 2 | H9: 送付書（隣のシート）を印刷
C10: STEP 3 | H10: ご記入後、このエクセルファイルをそのまま | AD10: info@alfred-lab.co.jp | AQ10: にお送りください。
C11: STEP 4 | H11: 印刷いただいた送付書と試料を梱包し発送（元払い）
B13: 【契約内容のご確認】
B14: ・「注文フォーム」とサンプルが届いた時点で注文を確定させて頂きます。分析保留のご指示がない際の確定後のキャンセルは費用が発生しますのでご注意ください。
B15: ・試料を宅配便で送付する場合、アルフレッド株式会社に必ず最短配送指定（可能であればAM着）をお願い致します。納期はAM着は当日起算、PM着は翌日起算の受け入れとさせていただきます。
B16: ・ご提供する成績書は原則としてPDFにて納品させていただき、ご要望に応じて郵送対応をさせていただきます。
B17: ・分析残試料及びその容器のご返却をご希望の場合は必ず「分析後試料」項でご選択ください。「着払い」にてお客様住所にご返却させて頂きます。(原則:ヤマト運輸を使用)
B18: ・分析残試料及びその容器は指示がない場合はアルフレッド株式会社の規定により廃棄させて頂きます。廃棄までの期間は試料受付より概ね一か月程度です。
B19: ・弊社にて実施しているのは定性分析のため、測定不確かさは考慮しません。
B20: 【機密情報の取扱について】
B21: ・注文書の情報は、お客様への連絡などの目的以外に使用しません。
B22: ・お客様より収集させて頂いた情報をアルフレッド株式会社以外の第三者には、提供・開示いたしません。
B24: 【試料送付先】※中国・四国・九州地方のお客様は福岡ラボをご選択ください
C25: 分析実施場所*必須 | K25: 福岡ラボ | AF25: =IF(K25="福岡ラボ","検体を福岡ラボまでご送付ください。","検体を浜松ラボまでご送付ください。") -> 検体を福岡ラボまでご送付ください。
B29: 【お客様情報】 ※分析結果速報をお送りする宛先です。
C30: 会社名*必須
C31: 郵便番号*必須
C32: 会社住所*必須
C33: 部署名*必須
C34: 御担当者様*必須
C35: 電話番号*必須
C36: 携帯電話番号*必須
C37: 速報/連絡E-mail*必須
C38: 他E-mail（任意）
B40: 【分析依頼情報】
C41: 分析納期情報
C42: 納期プラン*必須 | J42: 通常納期 | AF42: =IF(J42="特急納期","特急が指定されています","")
C45: 成績書情報
C46: 報告書様式*必須 | J46: 試験成績書 | AZ46: =IF(J46="分析結果報告書（厚労省書式）","A004","") | BC46: =COUNTA(D67:O96) -> 0 | CI46: 紙を郵送
C47: 成績書宛名*必須 | AD47: 様 | BJ47: 0 | CI47: 1
C48: 成績書の納品*必須 | J48: PDF納品 | AF48: =IF(J48="紙を郵送","普通郵便による郵送のため、最大5日かかります","") | AZ48: ※弊社発行の報告書はメールでお送りするPDF（電子データ）が原本となります。 | CI48: 2
C49: 成績書部数 | AF49: =IF(J48="PDF納品","PDF納品の場合は部数選択は不要です","") -> PDF納品の場合は部数選択は不要です | BA49: 必要に応じて印刷していただきご利用くださいませ。 | CI49: 3
BA50: 弊社にてPDFを印刷の上で郵送をご希望の場合は「紙で郵送」をご選択ください。 | CI50: 4
C51: 試料返却の有無
C52: 分析後試料*必須 | AF52: =IF(J52="要返却","貴社に着払いにて返送いたします","")
B54: 【業務情報】
C55: 件名*必須 | AL55: ※件名が不要の場合は-を入力ください
B57: 【試料情報】下記に試料毎の情報をご記入ください。※同封の試料にも下記と同じ試料番号と試料名をご記入ください。
B58: ★重要★ 分析依頼書と試料袋の記載情報が異なる場合、原則分析依頼書の情報を正として取り扱いさせて頂きます。 例：分析依頼書「機械室 石膏ボード」、試料袋記載「機械 石こうボード」の場合は、 成績書には「機械室 石膏ボード」と記載させて頂きます。 試料袋記載が「ボイラー室 石こうボード」のように、明らかに記載内容が異なる場合はお問合せさせて頂くことがございます。
C64: 試料別情報 | AU64: ※厚労省書式をご選択の場合はご記入ください | BL64: 別途料金 | DB64: 断面写真
B65: 試料 番号 | D65: 試料名称 *必須 | P65: 採取日 | V65: 採取場所（エリア・部屋名など） | AK65: 試料採取者 氏名 | AU65: 採取箇所 選定者 | BE65: 試料の大きさ | BL65: 断面写真 | DB65: =DB64&":"&COUNTIF($DB$67:$DB$116,"定性+断面写真") -> 断面写真:0
BL66: オプション | BR66: ※厚労省書式をご選択の場合はご記入ください | CZ66: {=_xlfn.IFS(J46="分析結果報告書（厚労省書式）","分析結果報告書（厚労省書式）",COUNTIF(BL67:BO116,"〇")<>0,"報告書_断面写真",J46="試験成績書","試験成績書")} -> 試験成績書
B67: 1 | BR67: 施設名称 | DB67: =IF(BL67="〇","定性+断面写真","定性分析") -> 定性分析
B68: 2 | BR68: 採取場所住所 | DB68: =IF(BL68="〇","定性+断面写真","定性分析") -> 定性分析
B69: 3 | BR69: 建物の用途 | DB69: =IF(BL69="〇","定性+断面写真","定性分析") -> 定性分析
B70: 4 | BR70: 竣工年・施工を採用した年 | DB70: =IF(BL70="〇","定性+断面写真","定性分析") -> 定性分析
B71: 5 | DB71: =IF(BL71="〇","定性+断面写真","定性分析") -> 定性分析
B72: 6 | BR72: 連絡事項 *任意 | DB72: =IF(BL72="〇","定性+断面写真","定性分析") -> 定性分析
B73: 7 | DB73: =IF(BL73="〇","定性+断面写真","定性分析") -> 定性分析
B74: 8 | DB74: =IF(BL74="〇","定性+断面写真","定性分析") -> 定性分析
B75: 9 | DB75: =IF(BL75="〇","定性+断面写真","定性分析") -> 定性分析
B76: 10 | DB76: =IF(BL76="〇","定性+断面写真","定性分析") -> 定性分析
B77: 11 | DB77: =IF(BL77="〇","定性+断面写真","定性分析") -> 定性分析
B78: 12 | DB78: =IF(BL78="〇","定性+断面写真","定性分析") -> 定性分析
B79: 13 | DB79: =IF(BL79="〇","定性+断面写真","定性分析") -> 定性分析
B80: 14 | DB80: =IF(BL80="〇","定性+断面写真","定性分析") -> 定性分析
B81: 15 | DB81: =IF(BL81="〇","定性+断面写真","定性分析") -> 定性分析
B82: 16 | DB82: =IF(BL82="〇","定性+断面写真","定性分析") -> 定性分析
B83: 17 | DB83: =IF(BL83="〇","定性+断面写真","定性分析") -> 定性分析
B84: 18 | DB84: =IF(BL84="〇","定性+断面写真","定性分析") -> 定性分析
... B116: 50 | DB116: =IF(BL116="〇","定性+断面写真","定性分析") -> 定性分析

Sheet Sheet1
A1: 〒 432-8003 静岡県浜松市中央区和地山3-1-7
A2: 浜松イノベーションキューブ 307号室
A3: アルフレッド株式会社 受付担当行
A4: TEL 053-525-8422
A6: 〒819-0388 福岡県福岡市西区九大新町5-5
A7: いとLab+研究開発棟204号室
A8: アルフレッド株式会社 受付担当行
A9: TEL 053-525-8422
A12: 〒 432-8003
A13: 静岡県浜松市中央区和地山3-1-7
A14: 浜松イノベーションキューブ 307号室
A15: アルフレッド株式会社 受付担当 行
... A23: TEL：053-525-8422
